BEGIN:VCALENDAR
PRODID:-//AT Content Types//AT Event//EN
VERSION:2.0
METHOD:PUBLISH
BEGIN:VEVENT
DTSTAMP:20260420T141044Z
CREATED:20080402T131843Z
UID:ATEvent-ebd8e198fa7fd854cf17f714905c33f7
LAST-MODIFIED:20120911T220811Z
SUMMARY:Friday night DISC #13
DTSTART:20120914T222000Z
DTEND:20120915T020000Z
DESCRIPTION:An aboc/Blackburn Cycling Club DISC session
LOCATION:DISC
CATEGORIES:Blackburn training session,DISC training session
CONTACT:Carl Brewer\, 0419 966 003\, carl@aboc.com.au
CLASS:PUBLIC
END:VEVENT
END:VCALENDAR
